Workbook

Sheet 众创空间基本信息表
A1: 附件3
A2: 众创空间基本信息表
A3: 众创空间名称
A4: 运营机构名称
A5: 地址
A6: 法人代表 | E6: 手机
A7: 联系人 | E7: 手机
A8: 运营机构性质
A9: 成立时间 | F9: 是否具有独立法人资格
A10: 场地面积 | B10: 众创空间场地总面积（平方米） | G10: 服务场地面积（平方米）
B11: 公共服务场地面积（平方米） | G11: 创业工位数量
A12: 人员情况 | B12: 专职管理人员数 | G12: 专兼职导师数
A13: 年度服务情况 | B13: 年入驻创业团队和企业数量 | G13: 年新增注册企业数
B14: 年获得融资企业数 | G14: 年组织活动次数
A15: 负责人签名： 运营机构（盖章） 年 月 日

Sheet 数据条
A1: 众创空间基本信息表
A2: 序号 | B2: 众创空间名称 | C2: 运营机构名称 | D2: 地址 | E2: 法人代表 | F2: 手机 | G2: 联系人 | H2: 手机 | I2: 运营机构性质 | J2: =众创空间基本信息表!A9 -> 成立时间 | K2: =众创空间基本信息表!F9 -> 是否具有独立法人资格 | L2: 众创空间场地总面积（平方米） | M2: 服务场地面积（平方米） | N2: 公共服务场地面积（平方米） | O2: 创业工位数 | P2: 专职管理人员数 | Q2: 专兼职导师数 | R2: 年入驻创业团队和企业数量 | S2: 年新增注册企业数 | T2: 年获得融资企业数 | U2: 年组织活动次数
B3: =众创空间基本信息表!C3 -> 0 | C3: =众创空间基本信息表!C4 -> 0 | D3: =众创空间基本信息表!C5 -> 0 | E3: =众创空间基本信息表!C6 -> 0 | F3: =众创空间基本信息表!H6 -> 0 | G3: =众创空间基本信息表!C7 -> 0 | H3: =众创空间基本信息表!H7 -> 0 | I3: =众创空间基本信息表!C8 -> 0 | J3: =众创空间基本信息表!C9 -> 0 | K3: =众创空间基本信息表!I9 -> 0 | L3: =众创空间基本信息表!D10 -> 0 | M3: =众创空间基本信息表!J10 -> 0 | N3: =众创空间基本信息表!D11 -> 0 | O3: =众创空间基本信息表!J11 -> 0 | P3: =众创空间基本信息表!D12 -> 0 | Q3: =众创空间基本信息表!J12 -> 0 | R3: =众创空间基本信息表!D13 -> 0 | S3: =众创空间基本信息表!J13 -> 0 | T3: =众创空间基本信息表!D14 -> 0 | U3: =众创空间基本信息表!J14 -> 0
